BEGIN:VCALENDAR
VERSION:2.0
PRODID:-//Sabre//Sabre VObject 4.5.8//EN
CALSCALE:GREGORIAN
BEGIN:VEVENT
UID:sabre-vobject-7d54d25a-da74-4da4-9870-7caa216552a8
DTSTAMP:20260422T231040Z
SUMMARY:Rosenkranz mit anschl. Kreuzweg
DESCRIPTION:https://pfarreien-bistum-augsburg.df-preview.de/rosenkranz-mit-
 anschl-kreuzweg_id1689513
DTSTART;TZID=Europe/Berlin:20260320T160000
DURATION:PT30M
LOCATION:St. Martin
END:VEVENT
END:VCALENDAR
