BEGIN:VCALENDAR
VERSION:2.0
PRODID:-//Sabre//Sabre VObject 4.5.8//EN
CALSCALE:GREGORIAN
BEGIN:VEVENT
UID:sabre-vobject-5dc068d2-02d0-445d-ace5-544c0c130171
DTSTAMP:20260424T150152Z
SUMMARY:Festmesse
DESCRIPTION:https://pfarreien-bistum-augsburg.df-preview.de/festmesse_id168
 9491
DTSTART;TZID=Europe/Berlin:20260325T083000
DURATION:PT30M
LOCATION:St. Johannes Baptist
END:VEVENT
END:VCALENDAR
