BEGIN:VCALENDAR
VERSION:2.0
PRODID:-//Sabre//Sabre VObject 4.5.8//EN
CALSCALE:GREGORIAN
BEGIN:VEVENT
UID:sabre-vobject-4a243a60-ca1a-4ee4-a564-e8ae795a48ad
DTSTAMP:20260422T224205Z
SUMMARY:Heiliges Amt
DESCRIPTION:https://pfarreien-bistum-augsburg.df-preview.de/heiliges-amt_id
 1689486
DTSTART;TZID=Europe/Berlin:20260322T101500
DURATION:PT30M
LOCATION:St. Johannes Baptist
END:VEVENT
END:VCALENDAR
