BEGIN:VCALENDAR
VERSION:2.0
PRODID:-//Sabre//Sabre VObject 4.5.8//EN
CALSCALE:GREGORIAN
BEGIN:VEVENT
UID:sabre-vobject-5bbfdfd7-1194-47ac-8334-cf7770f8ae30
DTSTAMP:20260424T115531Z
SUMMARY:Rosenkranz
DESCRIPTION:https://pfarreien-bistum-augsburg.df-preview.de/rosenkranz_id16
 89439
DTSTART;TZID=Europe/Berlin:20260320T184500
DURATION:PT30M
LOCATION:St. Stephan
END:VEVENT
END:VCALENDAR
