BEGIN:VCALENDAR
VERSION:2.0
PRODID:-//Sabre//Sabre VObject 4.5.8//EN
CALSCALE:GREGORIAN
BEGIN:VEVENT
UID:sabre-vobject-6db0c11d-087e-437c-abf7-b38b16d97e2f
DTSTAMP:20260421T104220Z
SUMMARY:beim Kriegerdenkmal: Segnung der Palmen\, Prozession zur Kirche\, d
 ort Festgottesdienst
DESCRIPTION:https://pfarreien-bistum-augsburg.df-preview.de/beim-kriegerden
 kmal-segnung-der-palmen-prozession-zur-kirche-dort-festgottesdienst_id1689
 434
DTSTART;TZID=Europe/Berlin:20260329T083000
DURATION:PT30M
LOCATION:St. Stephan
END:VEVENT
END:VCALENDAR
