BEGIN:VCALENDAR
VERSION:2.0
PRODID:-//Sabre//Sabre VObject 4.5.8//EN
CALSCALE:GREGORIAN
BEGIN:VEVENT
UID:sabre-vobject-b4dd94d5-e46f-400c-8c8c-b49124c0308c
DTSTAMP:20260421T104215Z
SUMMARY:Fastenandacht
DESCRIPTION:https://pfarreien-bistum-augsburg.df-preview.de/fastenandacht_i
 d1689433
DTSTART;TZID=Europe/Berlin:20260326T183000
DURATION:PT30M
LOCATION:St. Stephan
END:VEVENT
END:VCALENDAR
