BEGIN:VCALENDAR
VERSION:2.0
PRODID:-//Sabre//Sabre VObject 4.5.8//EN
CALSCALE:GREGORIAN
BEGIN:VEVENT
UID:sabre-vobject-0cae34f6-4784-428e-8db7-fc353ea949ff
DTSTAMP:20260423T145324Z
SUMMARY:bis 16.45 Uhr Beichtgelegenheit und Rosenkranz
DESCRIPTION:https://pfarreien-bistum-augsburg.df-preview.de/bis-16-45-uhr-b
 eichtgelegenheit-und-rosenkranz_id1689431
DTSTART;TZID=Europe/Berlin:20260321T160000
DURATION:PT30M
LOCATION:St. Stephan
END:VEVENT
END:VCALENDAR
