BEGIN:VCALENDAR
VERSION:2.0
PRODID:-//Sabre//Sabre VObject 4.5.8//EN
CALSCALE:GREGORIAN
BEGIN:VEVENT
UID:sabre-vobject-9814f75f-49b3-4615-829e-0f7a75d20cbd
DTSTAMP:20260425T135714Z
SUMMARY:"Singen macht Spaß" im Pfarrheim
DESCRIPTION:https://pfarreien-bistum-augsburg.df-preview.de/singen-macht-sp
 ass-im-pfarrheim_id1689376
DTSTART;TZID=Europe/Berlin:20260320T193000
DURATION:PT30M
LOCATION:St. Afra
END:VEVENT
END:VCALENDAR
