BEGIN:VCALENDAR
VERSION:2.0
PRODID:-//Sabre//Sabre VObject 4.5.8//EN
CALSCALE:GREGORIAN
BEGIN:VEVENT
UID:sabre-vobject-b9d3aed3-e2e7-42ab-accf-38accb56525a
DTSTAMP:20260422T000408Z
SUMMARY:Pfarrgottesdienst
DESCRIPTION:https://pfarreien-bistum-augsburg.df-preview.de/pfarrgottesdien
 st_id1689362
DTSTART;TZID=Europe/Berlin:20260322T084500
DURATION:PT30M
LOCATION:St. Georg
END:VEVENT
END:VCALENDAR
