BEGIN:VCALENDAR
VERSION:2.0
PRODID:-//Sabre//Sabre VObject 4.5.8//EN
CALSCALE:GREGORIAN
BEGIN:VEVENT
UID:sabre-vobject-d405e7bd-15da-4dfb-bd59-854afcf419a3
DTSTAMP:20260420T132057Z
SUMMARY:Sonntagvorabendmesse mit Bußandacht
DESCRIPTION:https://pfarreien-bistum-augsburg.df-preview.de/sonntagvorabend
 messe-mit-bussandacht_id1689073
DTSTART;TZID=Europe/Berlin:20260321T170000
DURATION:PT30M
LOCATION:St. Martin\, Kirchstraße 27\, 82398 Polling
END:VEVENT
END:VCALENDAR
