BEGIN:VCALENDAR
VERSION:2.0
PRODID:-//Sabre//Sabre VObject 4.5.8//EN
CALSCALE:GREGORIAN
BEGIN:VEVENT
UID:sabre-vobject-13c9009d-ce10-4560-883e-9d3dd966960e
DTSTAMP:20260423T021329Z
SUMMARY:Rosenkranz in der Leonhardkapelle
DESCRIPTION:https://pfarreien-bistum-augsburg.df-preview.de/rosenkranz-in-d
 er-leonhardkapelle_id1688559
DTSTART;TZID=Europe/Berlin:20260318T190000
DURATION:PT30M
LOCATION:St. Silvester\, Kirchweg 4a\, 86856 Hiltenfingen
END:VEVENT
END:VCALENDAR
