BEGIN:VCALENDAR
VERSION:2.0
PRODID:-//Sabre//Sabre VObject 4.5.8//EN
CALSCALE:GREGORIAN
BEGIN:VEVENT
UID:sabre-vobject-dfbae488-4b35-4871-b0f2-d469ce0d3d4f
DTSTAMP:20260423T234840Z
SUMMARY:Rosenkranz
DESCRIPTION:https://pfarreien-bistum-augsburg.df-preview.de/rosenkranz_id16
 88032
DTSTART;TZID=Europe/Berlin:20260318T160000
DURATION:PT30M
LOCATION:St. Martin
END:VEVENT
END:VCALENDAR
