BEGIN:VCALENDAR
VERSION:2.0
PRODID:-//Sabre//Sabre VObject 4.5.8//EN
CALSCALE:GREGORIAN
BEGIN:VEVENT
UID:sabre-vobject-1dd5318d-ae79-46d0-b108-7a5482816c29
DTSTAMP:20260422T070212Z
SUMMARY:Eucharistiefeier mit Fußwaschung und Anbetung bis 21:00 Uhr
DESCRIPTION:https://pfarreien-bistum-augsburg.df-preview.de/eucharistiefeie
 r-mit-fusswaschung-und-anbetung-bis-21-00-uhr_id1688028
DTSTART;TZID=Europe/Berlin:20260402T190000
DURATION:PT30M
LOCATION:St. Wolfgang
END:VEVENT
END:VCALENDAR
