BEGIN:VCALENDAR
VERSION:2.0
PRODID:-//Sabre//Sabre VObject 4.5.8//EN
CALSCALE:GREGORIAN
BEGIN:VEVENT
UID:sabre-vobject-8675330c-2cba-4887-a265-2ddb08f6d445
DTSTAMP:20260424T115647Z
SUMMARY:Messe im Caritas-Seniorenzentrum St. Hedwig
DESCRIPTION:https://pfarreien-bistum-augsburg.df-preview.de/messe-im-carita
 s-seniorenzentrum-st-hedwig_id1687976
DTSTART;TZID=Europe/Berlin:20260319T090000
DURATION:PT30M
LOCATION:St. Ulrich
END:VEVENT
END:VCALENDAR
