BEGIN:VCALENDAR
VERSION:2.0
PRODID:-//Sabre//Sabre VObject 4.5.8//EN
CALSCALE:GREGORIAN
BEGIN:VEVENT
UID:sabre-vobject-4ea91f4f-ee86-4025-a2b1-cf44592ea08b
DTSTAMP:20260423T043323Z
SUMMARY:Mütter beten für ihre Kinder
DESCRIPTION:https://pfarreien-bistum-augsburg.df-preview.de/muetter-beten-f
 uer-ihre-kinder_id1687969
DTSTART;TZID=Europe/Berlin:20260330T100000
DURATION:PT30M
LOCATION:Zwölf Apostel
END:VEVENT
END:VCALENDAR
