BEGIN:VCALENDAR
VERSION:2.0
PRODID:-//Sabre//Sabre VObject 4.5.8//EN
CALSCALE:GREGORIAN
BEGIN:VEVENT
UID:sabre-vobject-42478245-8003-4fcb-a150-48eceaaf3237
DTSTAMP:20260424T223422Z
SUMMARY:Heilige Messe
DESCRIPTION:https://pfarreien-bistum-augsburg.df-preview.de/heilige-messe_i
 d1687943
DTSTART;TZID=Europe/Berlin:20260319T180000
DURATION:PT30M
LOCATION:St. Michael
END:VEVENT
END:VCALENDAR
