BEGIN:VCALENDAR
VERSION:2.0
PRODID:-//Sabre//Sabre VObject 4.5.8//EN
CALSCALE:GREGORIAN
BEGIN:VEVENT
UID:sabre-vobject-eea2ff25-1a3c-40eb-9c2a-64e3f7cb4e3f
DTSTAMP:20260423T160409Z
SUMMARY:Pfarrgottesdienst (einschl. Fastenopfer für Kinder für Misereor)
DESCRIPTION:https://pfarreien-bistum-augsburg.df-preview.de/pfarrgottesdien
 st-einschl-fastenopfer-fuer-kinder-fuer-misereor_id1687919
DTSTART;TZID=Europe/Berlin:20260322T090000
DURATION:PT30M
LOCATION:St. Fabian und Sebastian\, Pfr.-Bezler-Straße 22\, 86316 Derching
END:VEVENT
END:VCALENDAR
