BEGIN:VCALENDAR
VERSION:2.0
PRODID:-//Sabre//Sabre VObject 4.5.8//EN
CALSCALE:GREGORIAN
BEGIN:VEVENT
UID:sabre-vobject-1bcd5312-2a30-4a64-898f-d0f722cd5566
DTSTAMP:20260423T021536Z
SUMMARY:Feier des Einzugs Christi in Jerusalem\nPalmprozession und Hl. Mess
 e
DESCRIPTION:https://pfarreien-bistum-augsburg.df-preview.de/feier-des-einzu
 gs-christi-in-jerusalem-palmprozession-und-hl-messe_id1687858
DTSTART;TZID=Europe/Berlin:20260329T081500
DURATION:PT30M
LOCATION:St. Anna
END:VEVENT
END:VCALENDAR
