BEGIN:VCALENDAR
VERSION:2.0
PRODID:-//Sabre//Sabre VObject 4.5.8//EN
CALSCALE:GREGORIAN
BEGIN:VEVENT
UID:sabre-vobject-e02c5fec-d034-4547-ad75-06d3db26d212
DTSTAMP:20260422T095130Z
SUMMARY:Kreuzweg für Kinder
DESCRIPTION:https://pfarreien-bistum-augsburg.df-preview.de/kreuzweg-fuer-k
 inder_id1687820
DTSTART;TZID=Europe/Berlin:20260403T100000
DURATION:PT30M
LOCATION:Zwölf Apostel
END:VEVENT
END:VCALENDAR
