BEGIN:VCALENDAR
VERSION:2.0
PRODID:-//Sabre//Sabre VObject 4.5.8//EN
CALSCALE:GREGORIAN
BEGIN:VEVENT
UID:sabre-vobject-7e00cf6a-5035-4e2c-89b3-5f341140afe8
DTSTAMP:20260422T162822Z
SUMMARY:Stille Anbetung anschließend Rosenkranz
DESCRIPTION:https://pfarreien-bistum-augsburg.df-preview.de/stille-anbetung
 -anschliessend-rosenkranz_id1687795
DTSTART;TZID=Europe/Berlin:20260401T174500
DURATION:PT30M
LOCATION:Zwölf Apostel
END:VEVENT
END:VCALENDAR
