BEGIN:VCALENDAR
VERSION:2.0
PRODID:-//Sabre//Sabre VObject 4.5.8//EN
CALSCALE:GREGORIAN
BEGIN:VEVENT
UID:sabre-vobject-d495f04d-e77a-4936-901f-94c9cd91787b
DTSTAMP:20260422T064126Z
SUMMARY:Wort-Gottes-Feier
DESCRIPTION:https://pfarreien-bistum-augsburg.df-preview.de/wort-gottes-fei
 er_id1687755
DTSTART;TZID=Europe/Berlin:20260318T083000
DURATION:PT30M
LOCATION:St. Georg
END:VEVENT
END:VCALENDAR
