BEGIN:VCALENDAR
VERSION:2.0
PRODID:-//Sabre//Sabre VObject 4.5.8//EN
CALSCALE:GREGORIAN
BEGIN:VEVENT
UID:sabre-vobject-bd23ec95-7eb7-43ee-b5d9-9dd8a3803419
DTSTAMP:20260421T081516Z
SUMMARY:Familienkreuzweg zum Kreuz in der Deuringer Heide
DESCRIPTION:https://pfarreien-bistum-augsburg.df-preview.de/familienkreuzwe
 g-zum-kreuz-in-der-deuringer-heide_id1687648
DTSTART;TZID=Europe/Berlin:20260403T110000
DURATION:PT30M
LOCATION:St. Gabriel\, Neudeker Weg 1\, 86391 Stadtbergen-Deuringen
END:VEVENT
END:VCALENDAR
