BEGIN:VCALENDAR
VERSION:2.0
PRODID:-//Sabre//Sabre VObject 4.5.8//EN
CALSCALE:GREGORIAN
BEGIN:VEVENT
UID:sabre-vobject-f746bf47-8244-4e72-bea0-76aed775f5a7
DTSTAMP:20260423T194209Z
SUMMARY:Rosenkranz und Beichtgelegenheit
DESCRIPTION:https://pfarreien-bistum-augsburg.df-preview.de/rosenkranz-und-
 beichtgelegenheit_id1687575
DTSTART;TZID=Europe/Berlin:20260328T180000
DURATION:PT30M
LOCATION:St. Nikolaus
END:VEVENT
END:VCALENDAR
