BEGIN:VCALENDAR
VERSION:2.0
PRODID:-//Sabre//Sabre VObject 4.5.8//EN
CALSCALE:GREGORIAN
BEGIN:VEVENT
UID:sabre-vobject-87bd2ad4-6547-48ac-ba70-03bed76b33b0
DTSTAMP:20260424T024132Z
SUMMARY:Rosenkranz
DESCRIPTION:https://pfarreien-bistum-augsburg.df-preview.de/rosenkranz_id16
 87439
DTSTART;TZID=Europe/Berlin:20260401T083000
DURATION:PT30M
LOCATION:Maria\, Hilfe der Christen
END:VEVENT
END:VCALENDAR
