BEGIN:VCALENDAR
VERSION:2.0
PRODID:-//Sabre//Sabre VObject 4.5.8//EN
CALSCALE:GREGORIAN
BEGIN:VEVENT
UID:sabre-vobject-a7b86bd5-22f9-4e6d-b808-e4f29dfbd028
DTSTAMP:20260425T123437Z
SUMMARY:Rosenkranz
DESCRIPTION:https://pfarreien-bistum-augsburg.df-preview.de/rosenkranz_id16
 87083
DTSTART;TZID=Europe/Berlin:20260430T163000
DURATION:PT30M
LOCATION:St. Oswald
END:VEVENT
END:VCALENDAR
