BEGIN:VCALENDAR
VERSION:2.0
PRODID:-//Sabre//Sabre VObject 4.5.8//EN
CALSCALE:GREGORIAN
BEGIN:VEVENT
UID:sabre-vobject-a25ead19-22ec-410f-bc11-06e99e4e1035
DTSTAMP:20260421T092355Z
SUMMARY:Feier der Osternacht mit Speisensegnung\, Osterfeuer vor der Kirche
 . Anschl. Osterfrühstück
DESCRIPTION:https://pfarreien-bistum-augsburg.df-preview.de/feier-der-oster
 nacht-mit-speisensegnung-osterfeuer-vor-der-kirche-anschl-osterfruehstueck
 _id1687012
DTSTART;TZID=Europe/Berlin:20260405T050000
DURATION:PT30M
LOCATION:Hlgst. Herz Jesu
END:VEVENT
END:VCALENDAR
