BEGIN:VCALENDAR
VERSION:2.0
PRODID:-//Sabre//Sabre VObject 4.5.8//EN
CALSCALE:GREGORIAN
BEGIN:VEVENT
UID:sabre-vobject-a37ab7ba-8425-41c7-9670-49ea9a1f712b
DTSTAMP:20260422T111257Z
SUMMARY:Fastenandacht
DESCRIPTION:https://pfarreien-bistum-augsburg.df-preview.de/fastenandacht_i
 d1686972
DTSTART;TZID=Europe/Berlin:20260319T173000
DURATION:PT30M
LOCATION:Mariä Himmelfahrt
END:VEVENT
END:VCALENDAR
