BEGIN:VCALENDAR
VERSION:2.0
PRODID:-//Sabre//Sabre VObject 4.5.8//EN
CALSCALE:GREGORIAN
BEGIN:VEVENT
UID:sabre-vobject-b61412f7-080d-4b47-a54b-77bdc57abc7b
DTSTAMP:20260423T052454Z
SUMMARY:Festgottesdienst zum Palmsonntag f. d. Lebenden u. Verst. d. Pfarrg
 em. mit Segnung der Palmbuschen\nVerkaufsaktion vom Kindergarten Guter Hir
 te zugunsten der Kirchendachsanierung
DESCRIPTION:https://pfarreien-bistum-augsburg.df-preview.de/festgottesdiens
 t-zum-palmsonntag-f-d-lebenden-u-verst-d-pfarrgem-mit-segnung-der-palmbusc
 hen-verkaufsaktion-vom-kindergarten-guter-hirte-zugunsten-der-kirchendachs
 anierung_id1686856
DTSTART;TZID=Europe/Berlin:20260329T100000
DURATION:PT30M
LOCATION:Hlgst. Herz Jesu
END:VEVENT
END:VCALENDAR
