BEGIN:VCALENDAR
VERSION:2.0
PRODID:-//Sabre//Sabre VObject 4.5.8//EN
CALSCALE:GREGORIAN
BEGIN:VEVENT
UID:sabre-vobject-40d2406a-1e45-4b0b-b01d-422b32af56b2
DTSTAMP:20260423T222510Z
SUMMARY:GD der syri.-kath. Gemeinde
DESCRIPTION:https://pfarreien-bistum-augsburg.df-preview.de/gd-der-syri-kat
 h-gemeinde_id1686796
DTSTART;TZID=Europe/Berlin:20260329T110000
DURATION:PT30M
LOCATION:St. Joseph
END:VEVENT
END:VCALENDAR
