BEGIN:VCALENDAR
VERSION:2.0
PRODID:-//Sabre//Sabre VObject 4.5.8//EN
CALSCALE:GREGORIAN
BEGIN:VEVENT
UID:sabre-vobject-d9b3e058-e637-4bd9-b714-c78e928facad
DTSTAMP:20260423T131404Z
SUMMARY:Entfällt - Rosenkranz
DESCRIPTION:https://pfarreien-bistum-augsburg.df-preview.de/entfaellt-rosen
 kranz_id1686593
DTSTART;TZID=Europe/Berlin:20260403T172000
DURATION:PT30M
LOCATION:St. Peter und Paul
END:VEVENT
END:VCALENDAR
