BEGIN:VCALENDAR
VERSION:2.0
PRODID:-//Sabre//Sabre VObject 4.5.8//EN
CALSCALE:GREGORIAN
BEGIN:VEVENT
UID:sabre-vobject-edd782c4-aa96-4905-b74f-505f19f20e8e
DTSTAMP:20260422T031543Z
SUMMARY:Rosenkranz für den Frieden in der Krypta
DESCRIPTION:https://pfarreien-bistum-augsburg.df-preview.de/rosenkranz-fuer
 -den-frieden-in-der-krypta_id1686535
DTSTART;TZID=Europe/Berlin:20260321T170000
DURATION:PT30M
LOCATION:St. Philippus und Jakobus\, Stiftsberg 15\, 87730 Bad Grönenbach
END:VEVENT
END:VCALENDAR
