BEGIN:VCALENDAR
VERSION:2.0
PRODID:-//Sabre//Sabre VObject 4.5.8//EN
CALSCALE:GREGORIAN
BEGIN:VEVENT
UID:sabre-vobject-0caa7575-e2e8-439f-bf39-ab314dbdf3f6
DTSTAMP:20260423T005013Z
SUMMARY:Karfreitagsliturgie der Portugiesischen Gemeinde
DESCRIPTION:https://pfarreien-bistum-augsburg.df-preview.de/karfreitagslitu
 rgie-der-portugiesischen-gemeinde_id1686526
DTSTART;TZID=Europe/Berlin:20260403T150000
DURATION:PT30M
LOCATION:St. Joseph
END:VEVENT
END:VCALENDAR
