BEGIN:VCALENDAR
VERSION:2.0
PRODID:-//Sabre//Sabre VObject 4.5.8//EN
CALSCALE:GREGORIAN
BEGIN:VEVENT
UID:sabre-vobject-d9e52e59-31f7-4a1d-a2c5-4a17697baefa
DTSTAMP:20260423T034914Z
SUMMARY:Kinderkreuzfeier
DESCRIPTION:https://pfarreien-bistum-augsburg.df-preview.de/kinderkreuzfeie
 r_id1686525
DTSTART;TZID=Europe/Berlin:20260403T110000
DURATION:PT30M
LOCATION:St. Joseph
END:VEVENT
END:VCALENDAR
