BEGIN:VCALENDAR
VERSION:2.0
PRODID:-//Sabre//Sabre VObject 4.5.8//EN
CALSCALE:GREGORIAN
BEGIN:VEVENT
UID:sabre-vobject-e904ba02-e95b-479d-b48f-49bc561f5bd0
DTSTAMP:20260423T132146Z
SUMMARY:Feier vom letzten Abendmahl der syr.-kath. Gemeinde
DESCRIPTION:https://pfarreien-bistum-augsburg.df-preview.de/feier-vom-letzt
 en-abendmahl-der-syr-kath-gemeinde_id1686524
DTSTART;TZID=Europe/Berlin:20260402T180000
DURATION:PT30M
LOCATION:St. Joseph
END:VEVENT
END:VCALENDAR
