BEGIN:VCALENDAR
VERSION:2.0
PRODID:-//Sabre//Sabre VObject 4.5.8//EN
CALSCALE:GREGORIAN
BEGIN:VEVENT
UID:sabre-vobject-0e6f9ba3-567a-4d60-9156-aca6376b949c
DTSTAMP:20260419T181516Z
SUMMARY:Kreuzwegandacht
DESCRIPTION:https://pfarreien-bistum-augsburg.df-preview.de/kreuzwegandacht
 _id1686331
DTSTART;TZID=Europe/Berlin:20260320T180000
DURATION:PT30M
LOCATION:Mariä Himmelfahrt
END:VEVENT
END:VCALENDAR
