BEGIN:VCALENDAR
VERSION:2.0
PRODID:-//Sabre//Sabre VObject 4.5.8//EN
CALSCALE:GREGORIAN
BEGIN:VEVENT
UID:sabre-vobject-bdf201b6-c41c-48a4-9816-94e1ed345724
DTSTAMP:20260421T142831Z
SUMMARY:Eucharistiefeier
DESCRIPTION:https://pfarreien-bistum-augsburg.df-preview.de/eucharistiefeie
 r_id1686311
DTSTART;TZID=Europe/Berlin:20260322T090000
DURATION:PT30M
LOCATION:St. Peter und Paul\, Kirchenweg 5A\, 87730 Zell-Woringen
END:VEVENT
END:VCALENDAR
