BEGIN:VCALENDAR
VERSION:2.0
PRODID:-//Sabre//Sabre VObject 4.5.8//EN
CALSCALE:GREGORIAN
BEGIN:VEVENT
UID:sabre-vobject-37ac872b-4e4c-444f-a260-e1ff08d7528f
DTSTAMP:20260422T152920Z
SUMMARY:Kreuzwegandacht
DESCRIPTION:https://pfarreien-bistum-augsburg.df-preview.de/kreuzwegandacht
 _id1686108
DTSTART;TZID=Europe/Berlin:20260327T180000
DURATION:PT30M
LOCATION:Mariä Himmelfahrt
END:VEVENT
END:VCALENDAR
