BEGIN:VCALENDAR
VERSION:2.0
PRODID:-//Sabre//Sabre VObject 4.5.8//EN
CALSCALE:GREGORIAN
BEGIN:VEVENT
UID:sabre-vobject-45633512-7264-46ed-aaf3-266cc4e14511
DTSTAMP:20260422T181016Z
SUMMARY:Hl. Messe
DESCRIPTION:https://pfarreien-bistum-augsburg.df-preview.de/hl-messe_id1686
 106
DTSTART;TZID=Europe/Berlin:20260325T173000
DURATION:PT30M
LOCATION:Mariä Himmelfahrt
END:VEVENT
END:VCALENDAR
