BEGIN:VCALENDAR
VERSION:2.0
PRODID:-//Sabre//Sabre VObject 4.5.8//EN
CALSCALE:GREGORIAN
BEGIN:VEVENT
UID:sabre-vobject-533ff665-44da-4b3e-b0bd-385e26ef30a6
DTSTAMP:20260422T210447Z
SUMMARY:Hl. Messe anschl. Misereor-Fastensuppenessen im Traidtcasten
DESCRIPTION:https://pfarreien-bistum-augsburg.df-preview.de/hl-messe-anschl
 -misereor-fastensuppenessen-im-traidtcasten_id1686103
DTSTART;TZID=Europe/Berlin:20260322T100000
DURATION:PT30M
LOCATION:Mariä Himmelfahrt
END:VEVENT
END:VCALENDAR
