BEGIN:VCALENDAR
VERSION:2.0
PRODID:-//Sabre//Sabre VObject 4.5.8//EN
CALSCALE:GREGORIAN
BEGIN:VEVENT
UID:sabre-vobject-61086286-feb0-4185-a3d0-8f78236ada76
DTSTAMP:20260422T090828Z
SUMMARY:Fastenrosenkranz
DESCRIPTION:https://pfarreien-bistum-augsburg.df-preview.de/fastenrosenkran
 z_id1686085
DTSTART;TZID=Europe/Berlin:20260330T180000
DURATION:PT30M
LOCATION:St. Martin\, Herzog-Georg-Straße 48\, 89415 Lauingen
END:VEVENT
END:VCALENDAR
