BEGIN:VCALENDAR
VERSION:2.0
PRODID:-//Sabre//Sabre VObject 4.5.8//EN
CALSCALE:GREGORIAN
BEGIN:VEVENT
UID:sabre-vobject-233ea65b-658c-4de8-9056-ab669ac25e4a
DTSTAMP:20260424T094228Z
SUMMARY:Fastenrosenkranz
DESCRIPTION:https://pfarreien-bistum-augsburg.df-preview.de/fastenrosenkran
 z_id1686076
DTSTART;TZID=Europe/Berlin:20260323T180000
DURATION:PT30M
LOCATION:St. Martin\, Herzog-Georg-Straße 48\, 89415 Lauingen
END:VEVENT
END:VCALENDAR
