BEGIN:VCALENDAR
VERSION:2.0
PRODID:-//Sabre//Sabre VObject 4.5.8//EN
CALSCALE:GREGORIAN
BEGIN:VEVENT
UID:sabre-vobject-2dacba9c-fa52-4097-93c9-42559cb887d9
DTSTAMP:20260424T111203Z
SUMMARY:Tauffeier
DESCRIPTION:https://pfarreien-bistum-augsburg.df-preview.de/tauffeier_id168
 6055
DTSTART;TZID=Europe/Berlin:20260321T140000
DURATION:PT30M
LOCATION:St. Martin\, Herzog-Georg-Straße 48\, 89415 Lauingen
END:VEVENT
END:VCALENDAR
