BEGIN:VCALENDAR
VERSION:2.0
PRODID:-//Sabre//Sabre VObject 4.5.8//EN
CALSCALE:GREGORIAN
BEGIN:VEVENT
UID:sabre-vobject-00768cbf-46a2-4897-a4b2-7351c9499d53
DTSTAMP:20260424T234637Z
SUMMARY:Statio am Pfarrhaus mit Segung der Palmzweige\, Prozession und Hl. 
 Messe
DESCRIPTION:https://pfarreien-bistum-augsburg.df-preview.de/statio-am-pfarr
 haus-mit-segung-der-palmzweige-prozession-und-hl-messe_id1686048
DTSTART;TZID=Europe/Berlin:20260329T090000
DURATION:PT30M
LOCATION:St. Nikolaus
END:VEVENT
END:VCALENDAR
