BEGIN:VCALENDAR
VERSION:2.0
PRODID:-//Sabre//Sabre VObject 4.5.8//EN
CALSCALE:GREGORIAN
BEGIN:VEVENT
UID:sabre-vobject-cf6a4ee3-4db7-4e80-9254-eb29aed0dddf
DTSTAMP:20260424T041508Z
SUMMARY:Kreuzweg/Ölbergandacht
DESCRIPTION:https://pfarreien-bistum-augsburg.df-preview.de/kreuzweg-oelber
 gandacht_id1685623
DTSTART;TZID=Europe/Berlin:20260319T173000
DURATION:PT30M
LOCATION:St. Peter und Paul
END:VEVENT
END:VCALENDAR
