BEGIN:VCALENDAR
VERSION:2.0
PRODID:-//Sabre//Sabre VObject 4.5.8//EN
CALSCALE:GREGORIAN
BEGIN:VEVENT
UID:sabre-vobject-d642d598-6522-4f8f-b5b8-c6c704ffb434
DTSTAMP:20260424T054543Z
SUMMARY:Tagesausflug des Frauenbundes zur Ostereierfärberei in Ursberg und
  Krumbach.\n
DESCRIPTION:https://pfarreien-bistum-augsburg.df-preview.de/tagesausflug-de
 s-frauenbundes-zur-ostereierfaerberei-in-ursberg-und-krumbach_id1685622
DTSTART;TZID=Europe/Berlin:20260318T000000
DURATION:PT30M
LOCATION:St. Peter und Paul
END:VEVENT
END:VCALENDAR
