BEGIN:VCALENDAR
VERSION:2.0
PRODID:-//Sabre//Sabre VObject 4.5.8//EN
CALSCALE:GREGORIAN
BEGIN:VEVENT
UID:sabre-vobject-c1ae253a-4e8d-4be7-8214-724419e703f3
DTSTAMP:20260425T034127Z
SUMMARY:Vorabendmesse
DESCRIPTION:https://pfarreien-bistum-augsburg.df-preview.de/vorabendmesse_i
 d1685326
DTSTART;TZID=Europe/Berlin:20260328T180000
DURATION:PT30M
LOCATION:St. Pankratius
END:VEVENT
END:VCALENDAR
