BEGIN:VCALENDAR
VERSION:2.0
PRODID:-//Sabre//Sabre VObject 4.5.8//EN
CALSCALE:GREGORIAN
BEGIN:VEVENT
UID:sabre-vobject-cf9144f0-3644-490c-a1b5-f8c3ddc3c7b9
DTSTAMP:20260425T181300Z
SUMMARY:Taufe
DESCRIPTION:https://pfarreien-bistum-augsburg.df-preview.de/taufe_id1685323
DTSTART;TZID=Europe/Berlin:20260328T150000
DURATION:PT30M
LOCATION:St. Pankratius
END:VEVENT
END:VCALENDAR
