BEGIN:VCALENDAR
VERSION:2.0
PRODID:-//Sabre//Sabre VObject 4.5.8//EN
CALSCALE:GREGORIAN
BEGIN:VEVENT
UID:sabre-vobject-71799259-77bc-4da3-9688-4b15aa801081
DTSTAMP:20260424T160148Z
SUMMARY:Chrisammesse im Augsburger Dom
DESCRIPTION:https://pfarreien-bistum-augsburg.df-preview.de/chrisammesse-im
 -augsburger-dom_id1685321
DTSTART;TZID=Europe/Berlin:20260401T100000
DURATION:PT30M
LOCATION:St. Pankratius
END:VEVENT
END:VCALENDAR
