BEGIN:VCALENDAR
VERSION:2.0
PRODID:-//Sabre//Sabre VObject 4.5.8//EN
CALSCALE:GREGORIAN
BEGIN:VEVENT
UID:sabre-vobject-1a811130-9216-47a5-853e-1cec69546254
DTSTAMP:20260423T142203Z
SUMMARY:Abendlob
DESCRIPTION:https://pfarreien-bistum-augsburg.df-preview.de/abendlob_id1685
 314
DTSTART;TZID=Europe/Berlin:20260403T193000
DURATION:PT30M
LOCATION:St. Pankratius
END:VEVENT
END:VCALENDAR
