BEGIN:VCALENDAR
VERSION:2.0
PRODID:-//Sabre//Sabre VObject 4.5.8//EN
CALSCALE:GREGORIAN
BEGIN:VEVENT
UID:sabre-vobject-916b58da-e2aa-46a2-88ea-bc1a6070827d
DTSTAMP:20260423T221720Z
SUMMARY:Kinderkreuzfeier
DESCRIPTION:https://pfarreien-bistum-augsburg.df-preview.de/kinderkreuzfeie
 r_id1685292
DTSTART;TZID=Europe/Berlin:20260403T100000
DURATION:PT30M
LOCATION:St. Pankratius
END:VEVENT
END:VCALENDAR
